BEGIN:VCALENDAR
VERSION:2.0
PRODID:DPCALENDAR
CALSCALE:GREGORIAN
BEGIN:VTIMEZONE
TZID:Europe/Berlin
X-MICROSOFT-CDO-TZID:4
BEGIN:STANDARD
DTSTART:20251026T010000
TZOFFSETFROM:+0200
TZOFFSETTO:+0100
TZNAME:CET
END:STANDARD
BEGIN:STANDARD
DTSTART:20261025T010000
TZOFFSETFROM:+0200
TZOFFSETTO:+0100
TZNAME:CET
END:STANDARD
BEGIN:DAYLIGHT
DTSTART:20260329T010000
TZOFFSETFROM:+0100
TZOFFSETTO:+0200
TZNAME:CEST
END:DAYLIGHT
END:VTIMEZONE
X-WR-TIMEZONE:Europe/Berlin
BEGIN:VEVENT
DTSTART;TZID=Europe/Berlin:20241224T180000
DTEND;TZID=Europe/Berlin:20241224T190000
UID:0B243B7A-BA52-4A33-B852-65FED7CD017B
SUMMARY:Testtermin
CREATED:20241130T092807Z
DTSTAMP:20241130T092807Z
URL:https://www.feuerwehr-badwildbad.de/start/kalender/testtermin
DESCRIPTION:Dies ist nur ein Termin, der zu Testzwecken eingetragen wurde.
X-ALT-DESC;FMTTYPE=text/html:<p>Dies ist nur ein Termin, der zu Testzwecken eingetragen wurde.</p>
LAST-MODIFIED:20241130T092807Z
SEQUENCE:0
LOCATION:Calmbacher Strasse 65\, 75323 Bad Wildbad\, Baden-Württemberg\, Deutschland
GEO:48.75974270;8.55178300
X-LOCATION-DISPLAYNAME:Feuerwehrhaus Wildbad
X-ACCESS:1
X-HITS:216
X-COLOR:3366cc
X-SHOW-END-TIME:0
END:VEVENT
BEGIN:VEVENT
DTSTART;VALUE=DATE:20251121
DTEND;VALUE=DATE:20251123
UID:FA6E413D-082E-481C-9EA0-F05349825940
SUMMARY:Jahresabschluss Jugendfeuerwehr
CREATED:20250114T092006Z
DTSTAMP:20250114T092006Z
URL:https://www.feuerwehr-badwildbad.de/start/kalender/jahresabschluss-jugendfeuerwehr
LAST-MODIFIED:20250114T092006Z
SEQUENCE:0
X-ACCESS:1
X-HITS:119
X-COLOR:f50a0a
X-SHOW-END-TIME:1
END:VEVENT
END:VCALENDAR