BEGIN:VCALENDAR
VERSION:2.0
PRODID:DPCALENDAR
CALSCALE:GREGORIAN
BEGIN:VTIMEZONE
TZID:Europe/Berlin
X-MICROSOFT-CDO-TZID:4
BEGIN:STANDARD
DTSTART:20251026T010000
TZOFFSETFROM:+0200
TZOFFSETTO:+0100
TZNAME:CET
END:STANDARD
BEGIN:STANDARD
DTSTART:20261025T010000
TZOFFSETFROM:+0200
TZOFFSETTO:+0100
TZNAME:CET
END:STANDARD
BEGIN:DAYLIGHT
DTSTART:20260329T010000
TZOFFSETFROM:+0100
TZOFFSETTO:+0200
TZNAME:CEST
END:DAYLIGHT
END:VTIMEZONE
X-WR-TIMEZONE:Europe/Berlin
BEGIN:VEVENT
DTSTART;TZID=Europe/Berlin:20250213T173000
DTEND;TZID=Europe/Berlin:20250213T203000
UID:F93F78A0-F5E0-4D29-9105-BBE0168B092F
SUMMARY:Übung Jugendfeuerwehr 
CREATED:20250113T142415Z
DTSTAMP:20250113T142415Z
URL:https://www.feuerwehr-badwildbad.de/start/kalender/uebung-jugendfeuerwehr
LAST-MODIFIED:20250113T151406Z
SEQUENCE:2991
X-ACCESS:1
X-HITS:68
X-COLOR:e00707
X-SHOW-END-TIME:1
END:VEVENT
BEGIN:VEVENT
DTSTART;TZID=Europe/Berlin:20250227T173000
DTEND;TZID=Europe/Berlin:20250227T203000
UID:273CC7BD-6CCA-4867-A1BF-529DB0E93FF3
SUMMARY:Übung Jugendfeuerwehr
CREATED:20250113T142454Z
DTSTAMP:20250113T142454Z
URL:https://www.feuerwehr-badwildbad.de/start/kalender/uebung-jugendfeuerwehr-2
LAST-MODIFIED:20250113T142915Z
SEQUENCE:261
X-ACCESS:1
X-HITS:82
X-COLOR:f51111
X-SHOW-END-TIME:1
END:VEVENT
BEGIN:VEVENT
DTSTART;TZID=Europe/Berlin:20250301T150000
DTEND;TZID=Europe/Berlin:20250301T200000
UID:BAA2C020-CBFB-4644-A38D-4A8DC5879A4E
SUMMARY:Hauptversammlung Jugendfeuerwehr
CREATED:20250113T142537Z
DTSTAMP:20250113T142537Z
URL:https://www.feuerwehr-badwildbad.de/start/kalender/hauptversammlung-jugendfeuerwehr
LAST-MODIFIED:20250114T090447Z
SEQUENCE:67150
LOCATION:Calmbacher Strasse 65\, 75323 Bad Wildbad\, Baden-Württemberg\, Deutschland
GEO:48.75974270;8.55178300
X-LOCATION-DISPLAYNAME:Feuerwehrhaus Wildbad
X-ACCESS:1
X-HITS:101
X-COLOR:f50a0a
X-SHOW-END-TIME:1
END:VEVENT
BEGIN:VEVENT
DTSTART;TZID=Europe/Berlin:20250313T173000
DTEND;TZID=Europe/Berlin:20250313T203000
UID:7E333EF4-038F-410C-8121-A58FDAA0EA0F
SUMMARY:Übung Jugendfeuerwehr
CREATED:20250113T142827Z
DTSTAMP:20250113T142827Z
URL:https://www.feuerwehr-badwildbad.de/start/kalender/uebung-jugendfeuerwehr-3
LAST-MODIFIED:20250113T142827Z
SEQUENCE:0
LOCATION:Calmbacher Strasse 65\, 75323 Bad Wildbad\, Baden-Württemberg\, Deutschland
GEO:48.75974270;8.55178300
X-LOCATION-DISPLAYNAME:Feuerwehrhaus Wildbad
X-ACCESS:1
X-HITS:75
X-COLOR:eb1d1d
X-SHOW-END-TIME:1
END:VEVENT
BEGIN:VEVENT
DTSTART;TZID=Europe/Berlin:20250410T173000
DTEND;TZID=Europe/Berlin:20250410T203000
UID:82CA4A5E-7061-4A65-82DF-53797D847E93
SUMMARY:Übung Jugendfeuerwehr
CREATED:20250114T090808Z
DTSTAMP:20250114T090808Z
URL:https://www.feuerwehr-badwildbad.de/start/kalender/uebung-jugendfeuerwehr-5
LAST-MODIFIED:20250114T090826Z
SEQUENCE:18
X-ACCESS:1
X-HITS:129
X-COLOR:f01313
X-SHOW-END-TIME:1
END:VEVENT
BEGIN:VEVENT
DTSTART;TZID=Europe/Berlin:20250508T173000
DTEND;TZID=Europe/Berlin:20250508T203000
UID:9D8F0B80-C036-4B1B-A81E-44D70BE6C41C
SUMMARY:Übung Jugendfeuerwehr
CREATED:20250114T090915Z
DTSTAMP:20250114T090915Z
URL:https://www.feuerwehr-badwildbad.de/start/kalender/uebung-jugendfeuerwehr-6
LAST-MODIFIED:20250114T090915Z
SEQUENCE:0
X-ACCESS:1
X-HITS:105
X-COLOR:eb1d1d
X-SHOW-END-TIME:1
END:VEVENT
BEGIN:VEVENT
DTSTART;TZID=Europe/Berlin:20250522T173000
DTEND;TZID=Europe/Berlin:20250522T203000
UID:7E333EF4-038F-410C-8121-A58FDAA0EA0F
SUMMARY:Übung Jugendfeuerwehr
CREATED:20250113T132827Z
DTSTAMP:20250113T132827Z
URL:https://www.feuerwehr-badwildbad.de/start/kalender/uebung-jugendfeuerwehr-4
LAST-MODIFIED:20250114T090659Z
SEQUENCE:70712
LOCATION:Calmbacher Strasse 65\, 75323 Bad Wildbad\, Baden-Württemberg\, Deutschland
GEO:48.75974270;8.55178300
X-LOCATION-DISPLAYNAME:Feuerwehrhaus Wildbad
X-ACCESS:1
X-HITS:149
X-COLOR:eb1d1d
X-SHOW-END-TIME:1
END:VEVENT
BEGIN:VEVENT
DTSTART;TZID=Europe/Berlin:20250605T173000
DTEND;TZID=Europe/Berlin:20250605T203000
UID:427ACA96-C660-42AD-91F3-6AE300154DBB
SUMMARY:Übung Jugendfeuerwehr
CREATED:20250114T090954Z
DTSTAMP:20250114T090954Z
URL:https://www.feuerwehr-badwildbad.de/start/kalender/uebung-jugendfeuerwehr-7
LAST-MODIFIED:20250114T090954Z
SEQUENCE:0
X-ACCESS:1
X-HITS:150
X-COLOR:eb1d1d
X-SHOW-END-TIME:1
END:VEVENT
BEGIN:VEVENT
DTSTART;TZID=Europe/Berlin:20250703T173000
DTEND;TZID=Europe/Berlin:20250703T203000
UID:CBDE8DFE-8693-4BBD-8CBA-657C675C45D1
SUMMARY:Übung Jugendfeuerwehr
CREATED:20250114T091141Z
DTSTAMP:20250114T091141Z
URL:https://www.feuerwehr-badwildbad.de/start/kalender/uebung-jugendfeuerwehr-9
LAST-MODIFIED:20250114T091141Z
SEQUENCE:0
X-ACCESS:1
X-HITS:140
X-COLOR:eb1d1d
X-SHOW-END-TIME:1
END:VEVENT
BEGIN:VEVENT
DTSTART;TZID=Europe/Berlin:20250717T173000
DTEND;TZID=Europe/Berlin:20250717T203000
UID:97B8DDCC-E4F1-4EFC-91BC-9BB2588A13BD
SUMMARY:Übung Jugendfeuerwehr
CREATED:20250114T091040Z
DTSTAMP:20250114T091040Z
URL:https://www.feuerwehr-badwildbad.de/start/kalender/uebung-jugendfeuerwehr-8
LAST-MODIFIED:20250114T091104Z
SEQUENCE:24
X-ACCESS:1
X-HITS:141
X-COLOR:f20909
X-SHOW-END-TIME:1
END:VEVENT
BEGIN:VEVENT
DTSTART;VALUE=DATE:20250818
DTEND;VALUE=DATE:20250827
UID:121FD490-F41F-41D1-975B-B000B2A0673E
SUMMARY:Zeltlager Jugendfeuerwehr
CREATED:20250114T091217Z
DTSTAMP:20250114T091217Z
URL:https://www.feuerwehr-badwildbad.de/start/kalender/zeltlager-jugendfeuerwehr
LAST-MODIFIED:20250114T091244Z
SEQUENCE:27
X-ACCESS:1
X-HITS:195
X-COLOR:eb1d1d
X-SHOW-END-TIME:1
END:VEVENT
BEGIN:VEVENT
DTSTART;TZID=Europe/Berlin:20250918T173000
DTEND;TZID=Europe/Berlin:20250918T203000
UID:5438AE2E-C030-41EC-98DC-3C016CAB3F83
SUMMARY:Übung Jugendfeuerwehr
CREATED:20250114T091603Z
DTSTAMP:20250114T091603Z
URL:https://www.feuerwehr-badwildbad.de/start/kalender/uebung-jugendfeuerwehr-11
LAST-MODIFIED:20250114T091603Z
SEQUENCE:0
X-ACCESS:1
X-HITS:208
X-COLOR:eb1d1d
X-SHOW-END-TIME:1
END:VEVENT
BEGIN:VEVENT
DTSTART;TZID=Europe/Berlin:20251002T173000
DTEND;TZID=Europe/Berlin:20251002T203000
UID:5223F2EC-C9D0-4C0D-87DB-7B690A45622E
SUMMARY:Übung Jugendfeuerwehr
CREATED:20250114T091652Z
DTSTAMP:20250114T091652Z
URL:https://www.feuerwehr-badwildbad.de/start/kalender/uebung-jugendfeuerwehr-12
LAST-MODIFIED:20250114T091652Z
SEQUENCE:0
X-ACCESS:1
X-HITS:207
X-COLOR:eb1d1d
X-SHOW-END-TIME:1
END:VEVENT
BEGIN:VEVENT
DTSTART;TZID=Europe/Berlin:20251016T173000
DTEND;TZID=Europe/Berlin:20251016T203000
UID:33DEFE44-5F5D-48BB-BE26-E30A3FAE4E59
SUMMARY:Übung Jugendfeuerwehr
CREATED:20250114T091414Z
DTSTAMP:20250114T091414Z
URL:https://www.feuerwehr-badwildbad.de/start/kalender/uebung-jugendfeuerwehr-10
LAST-MODIFIED:20250114T091522Z
SEQUENCE:68
X-ACCESS:1
X-HITS:156
X-COLOR:eb1d1d
X-SHOW-END-TIME:1
END:VEVENT
BEGIN:VEVENT
DTSTART;TZID=Europe/Berlin:20251106T173000
DTEND;TZID=Europe/Berlin:20251106T203000
UID:7C9EA558-88D4-4F55-8AF9-67115B62AFF0
SUMMARY:Übung Jugendfeuerwehr
CREATED:20250114T091752Z
DTSTAMP:20250114T091752Z
URL:https://www.feuerwehr-badwildbad.de/start/kalender/uebung-jugendfeuerwehr-13
LAST-MODIFIED:20250114T091815Z
SEQUENCE:23
X-ACCESS:1
X-HITS:152
X-COLOR:eb1d1d
X-SHOW-END-TIME:1
END:VEVENT
BEGIN:VEVENT
DTSTART;TZID=Europe/Berlin:20251120T173000
DTEND;TZID=Europe/Berlin:20251120T203000
UID:D4F2598F-B431-4946-9A98-EF505AADC0C1
SUMMARY:Übung Jugendfeuerwehr
CREATED:20250114T091912Z
DTSTAMP:20250114T091912Z
URL:https://www.feuerwehr-badwildbad.de/start/kalender/uebung-jugendfeuerwehr-14
LAST-MODIFIED:20250114T091912Z
SEQUENCE:0
X-ACCESS:1
X-HITS:85
X-COLOR:eb1d1d
X-SHOW-END-TIME:1
END:VEVENT
BEGIN:VEVENT
DTSTART;TZID=Europe/Berlin:20251204T173000
DTEND;TZID=Europe/Berlin:20251204T203000
UID:43E0ABB0-FDFC-4E46-AE67-80267BD136C6
SUMMARY:Weihnachtsfeier Jugendfeuerwehr
CREATED:20250114T092103Z
DTSTAMP:20250114T092103Z
URL:https://www.feuerwehr-badwildbad.de/start/kalender/weihnachtsfeier-jugendfeuerwehr
LAST-MODIFIED:20250114T092103Z
SEQUENCE:0
X-ACCESS:1
X-HITS:89
X-COLOR:eb1515
X-SHOW-END-TIME:1
END:VEVENT
END:VCALENDAR